BEGIN:VCALENDAR
VERSION:2.0
PRODID:-//VIEWLAGOS - ECPv6.15.11//NONSGML v1.0//EN
CALSCALE:GREGORIAN
METHOD:PUBLISH
X-WR-CALNAME:VIEWLAGOS
X-ORIGINAL-URL:https://viewlagos.ng
X-WR-CALDESC:Events for VIEWLAGOS
REFRESH-INTERVAL;VALUE=DURATION:PT1H
X-Robots-Tag:noindex
X-PUBLISHED-TTL:PT1H
BEGIN:VTIMEZONE
TZID:Africa/Lagos
BEGIN:STANDARD
TZOFFSETFROM:+0100
TZOFFSETTO:+0100
TZNAME:WAT
DTSTART:20240101T000000
END:STANDARD
END:VTIMEZONE
BEGIN:VEVENT
DTSTART;TZID=Africa/Lagos:20260329T180000
DTEND;TZID=Africa/Lagos:20260329T233000
DTSTAMP:20260421T013848
CREATED:20260321T130811Z
LAST-MODIFIED:20260321T130811Z
UID:10005449-1774807200-1774827000@viewlagos.ng
SUMMARY:Cruise Festival
DESCRIPTION:The heat is about to go up! \nCRUISE FESTIVAL: BONFIRE TAKEOVER🔥🔥 \nWe’re bringing you the ultimate outdoor rave:\nBig bonfire 🔥\nMusic 🎶\nDance & cruise 💃🏽 🕺\nFire moments 📸\nFood & drinks 🥤 \nThis is your sign to gather your squad because this night will be unforgettable🤩 \n📍 Ikeja\n🕕 6pm\n🗓️ March 29th \nClick the link in our bio to get your ticket (s) \nDon’t hear the gist later… be there!🤩
URL:https://viewlagos.ng/event/cruise-festival/
LOCATION:Ikeja City Mall\, Obafemi Awolowo Way\, Alausa\, Lagos\, 101233\, Nigeria
CATEGORIES:Festival,Party
ATTACH;FMTTYPE=image/webp:https://viewlagos.ng/wp-content/uploads/2026/03/btjlf2jepaisqycgps02.webp
END:VEVENT
BEGIN:VEVENT
DTSTART;TZID=Africa/Lagos:20251001T110000
DTEND;TZID=Africa/Lagos:20251001T180000
DTSTAMP:20260421T013848
CREATED:20250719T122936Z
LAST-MODIFIED:20250926T110338Z
UID:10000598-1759316400-1759341600@viewlagos.ng
SUMMARY:Podfest Naija
DESCRIPTION:PodFest Naija – A Festival of Stories is Nigeria’s first-ever festival dedicated to podcasting and storytelling.\nFrom entertainment to comedy\, culture\, tech and wellness\, this one-day experience brings together your favourite podcasters\, creators\, and thought leaders across multiple live stages.\n\n\nWe’re bringing the PodFest Naija vibe to a location near you before the big day… freebies\, games\, music\, podcast vibes\, and a sneak peek of what’s coming on the 10th of October 2025! \n📍 Circle Mall | Surulere | Ikeja | Ikeja City Mall \nSept 26th – Oct 1st 2025 | 11am \nMark your calendars & be there\, we are excited already!🥳\nExpect real conversations\, live podcast recordings\, networking\, and immersive brand moments. \n\nCome for the gist. Stay for the movement.\nEntry is free; just bring your vibe.
URL:https://viewlagos.ng/event/podfest-naija/
LOCATION:Ikeja City Mall\, Obafemi Awolowo Way\, Alausa\, Lagos\, 101233\, Nigeria
CATEGORIES:Entertainment
ATTACH;FMTTYPE=image/png:https://viewlagos.ng/wp-content/uploads/2025/07/podfest.png
END:VEVENT
END:VCALENDAR