BEGIN:VCALENDAR
VERSION:2.0
PRODID:-//VIEWLAGOS - ECPv6.15.11//NONSGML v1.0//EN
CALSCALE:GREGORIAN
METHOD:PUBLISH
X-ORIGINAL-URL:https://viewlagos.ng
X-WR-CALDESC:Events for VIEWLAGOS
REFRESH-INTERVAL;VALUE=DURATION:PT1H
X-Robots-Tag:noindex
X-PUBLISHED-TTL:PT1H
BEGIN:VTIMEZONE
TZID:Africa/Lagos
BEGIN:STANDARD
TZOFFSETFROM:+0100
TZOFFSETTO:+0100
TZNAME:WAT
DTSTART:20250101T000000
END:STANDARD
END:VTIMEZONE
BEGIN:VEVENT
DTSTART;TZID=Africa/Lagos:20260418T170000
DTEND;TZID=Africa/Lagos:20260418T223000
DTSTAMP:20260420T001411
CREATED:20260411T231855Z
LAST-MODIFIED:20260411T231855Z
UID:10006658-1776531600-1776551400@viewlagos.ng
SUMMARY:Mcray Millennial Party: The White Party
DESCRIPTION:Izz white party. No excuses. 🔥🔥 \nLAGOS\, this is your invite to step into pure vibes\, premium energy\, and a night you won’t forget.\nDress clean\, show up loud\, and let’s make magic. \nApril 18 | 5PM | Ikeja GRA \nTickets are moving fast so don’t be told about it. \nReserve now: 07077778210
URL:https://viewlagos.ng/event/mcray-millennial-party-the-white-party/
LOCATION:Oshey Bar And Lounge\, 29 Isaac John Street\, Ikeja GRA\, Lagos\, 101233\, Nigeria
CATEGORIES:Party
ATTACH;FMTTYPE=image/jpeg:https://viewlagos.ng/wp-content/uploads/2026/04/659143615_1265938315075425_3664689262404953061_n.jpg
END:VEVENT
END:VCALENDAR